BEGIN:VCALENDAR
VERSION:2.0
PRODID:-//Embsay with Eastby Parish Council//Meeting Calendar//EN
CALSCALE:GREGORIAN
METHOD:PUBLISH
BEGIN:VEVENT
UID:70579-20241009@embsaywitheastby-pc.gov.uk
DTSTAMP:20260421T083805Z
DTSTART;VALUE=DATE:20241009
DTEND;VALUE=DATE:20241010
SUMMARY:Council Meeting &#8211\\; 9th October 2024
DESCRIPTION:Full Council Meeting\nView details: https://embsaywitheastby-pc.gov.uk/meetings/council-meeting-9th-october/
URL:https://embsaywitheastby-pc.gov.uk/meetings/council-meeting-9th-october/
END:VEVENT
END:VCALENDAR
