BEGIN:VCALENDAR
VERSION:2.0
PRODID:-//Embsay with Eastby Parish Council//Meeting Calendar//EN
CALSCALE:GREGORIAN
METHOD:PUBLISH
BEGIN:VEVENT
UID:71145-20260909@embsaywitheastby-pc.gov.uk
DTSTAMP:20260421T083854Z
DTSTART;VALUE=DATE:20260909
DTEND;VALUE=DATE:20260910
SUMMARY:Council Meeting &#8211\\; 9th September 2026
DESCRIPTION:Full Council Meeting\nView details: https://embsaywitheastby-pc.gov.uk/meetings/council-meeting-9th-september-2026/
URL:https://embsaywitheastby-pc.gov.uk/meetings/council-meeting-9th-september-2026/
END:VEVENT
END:VCALENDAR
