BEGIN:VCALENDAR
VERSION:2.0
PRODID:-//Embsay with Eastby Parish Council//Meeting Calendar//EN
CALSCALE:GREGORIAN
METHOD:PUBLISH
BEGIN:VEVENT
UID:71147-20261014@embsaywitheastby-pc.gov.uk
DTSTAMP:20260421T083907Z
DTSTART;VALUE=DATE:20261014
DTEND;VALUE=DATE:20261015
SUMMARY:Council Meeting &#8211\\; 14th October 2026
DESCRIPTION:Full Council Meeting\nView details: https://embsaywitheastby-pc.gov.uk/meetings/parish-council-meeting-14th-october-2026/
URL:https://embsaywitheastby-pc.gov.uk/meetings/parish-council-meeting-14th-october-2026/
END:VEVENT
END:VCALENDAR
